BEGIN:VCALENDAR
VERSION:2.0
PRODID:-//Dorfverein Koldingen - ECPv6.15.20//NONSGML v1.0//EN
CALSCALE:GREGORIAN
METHOD:PUBLISH
X-ORIGINAL-URL:https://dorfverein-koldingen.de
X-WR-CALDESC:Veranstaltungen für Dorfverein Koldingen
REFRESH-INTERVAL;VALUE=DURATION:PT1H
X-Robots-Tag:noindex
X-PUBLISHED-TTL:PT1H
BEGIN:VTIMEZONE
TZID:Europe/Berlin
BEGIN:DAYLIGHT
TZOFFSETFROM:+0100
TZOFFSETTO:+0200
TZNAME:CEST
DTSTART:20250330T010000
END:DAYLIGHT
BEGIN:STANDARD
TZOFFSETFROM:+0200
TZOFFSETTO:+0100
TZNAME:CET
DTSTART:20251026T010000
END:STANDARD
BEGIN:DAYLIGHT
TZOFFSETFROM:+0100
TZOFFSETTO:+0200
TZNAME:CEST
DTSTART:20260329T010000
END:DAYLIGHT
BEGIN:STANDARD
TZOFFSETFROM:+0200
TZOFFSETTO:+0100
TZNAME:CET
DTSTART:20261025T010000
END:STANDARD
BEGIN:DAYLIGHT
TZOFFSETFROM:+0100
TZOFFSETTO:+0200
TZNAME:CEST
DTSTART:20270328T010000
END:DAYLIGHT
BEGIN:STANDARD
TZOFFSETFROM:+0200
TZOFFSETTO:+0100
TZNAME:CET
DTSTART:20271031T010000
END:STANDARD
END:VTIMEZONE
BEGIN:VEVENT
DTSTART;TZID=Europe/Berlin:20260501T110000
DTEND;TZID=Europe/Berlin:20260501T160000
DTSTAMP:20260420T110152
CREATED:20250925T160356Z
LAST-MODIFIED:20250925T160356Z
UID:2820-1777633200-1777651200@dorfverein-koldingen.de
SUMMARY:Maifest
DESCRIPTION:Traditionelles Dorffest mit Faßbier\, Grillstand\, Pommes\, Kuchen\, Eiswagen\, Hüpfburg\, Kinderschminken und Vielem mehr.
URL:https://dorfverein-koldingen.de/event/maifest-3/
LOCATION:Lindenplatz\, Lindenplatz 8\, Koldingen\, 30982
ATTACH;FMTTYPE=image/jpeg:https://dorfverein-koldingen.de/wp-content/uploads/Maifest_Einladung_2023_b_DIN-A6.jpg
END:VEVENT
BEGIN:VEVENT
DTSTART;TZID=Europe/Berlin:20260802T093000
DTEND;TZID=Europe/Berlin:20260802T150000
DTSTAMP:20260420T110152
CREATED:20250930T191443Z
LAST-MODIFIED:20250930T192655Z
UID:2830-1785663000-1785682800@dorfverein-koldingen.de
SUMMARY:Charitylauf
DESCRIPTION:10. Koldinger Charitylauf: Volkslauf für Groß und Klein mit mehreren Strecken\, professioneller Zeitmessung und buntem Rahmenprogramm.
URL:https://dorfverein-koldingen.de/event/charitylauf-4/
LOCATION:Clubhaus Koldinger SV\, Redener Str. 11\, Koldingen\, 30982
END:VEVENT
BEGIN:VEVENT
DTSTART;TZID=Europe/Berlin:20260822T183000
DTEND;TZID=Europe/Berlin:20260822T233000
DTSTAMP:20260420T110152
CREATED:20250909T134736Z
LAST-MODIFIED:20250909T134741Z
UID:2768-1787423400-1787441400@dorfverein-koldingen.de
SUMMARY:Diner en Blanc
DESCRIPTION:Zusammen essen\, trinken\, lachen: Koldingen feiert sein drittes Diner en blanc. Geschirr\, Getränke\, Speisen und Deko bringt jeder selbst mit\, die weiße Tafel und die musikalische Untermalung stellt der Dorfverein. Weiße Kleidung ist wünschenswert.
URL:https://dorfverein-koldingen.de/event/diner-en-blanc-3/
LOCATION:Lindenbergwiese\, Ruther Weg 2\, Koldingen\, 30982
ATTACH;FMTTYPE=image/jpeg:https://dorfverein-koldingen.de/wp-content/uploads/1000040926-scaled.jpg
END:VEVENT
BEGIN:VEVENT
DTSTART;TZID=Europe/Berlin:20260927T100000
DTEND;TZID=Europe/Berlin:20260927T160000
DTSTAMP:20260420T110152
CREATED:20260116T210709Z
LAST-MODIFIED:20260116T210808Z
UID:2947-1790503200-1790524800@dorfverein-koldingen.de
SUMMARY:Dorfflohmarkt
DESCRIPTION:3. Koldinger Dorfflohmarkt: Sammler\, Schnäppchenjäger und Schatzsucher aufgepasst – zum dritten Mal findet am Sonntag\, den 27. September 2026\, ein großer Dorfflohmarkt in Koldingen statt. Aussteller sind private Teilnehmer\, die auf ihren Grundstücken\, Höfen oder vor ihren Garagen alles verkaufen\, was sich im Laufe der Jahre im Haus\, Keller oder auf dem Dachboden angesammelt hat. Der Dorfverein sammelt die Anmeldungen und stellt eine Übersichtskarte zusammen\, damit die Besucher sich im Ort besser zurechtfinden. Außerdem wird es am Lindenplatz mehrere Stände mit Essen und Trinken geben.
URL:https://dorfverein-koldingen.de/event/dorfflohmarkt/
LOCATION:Lindenplatz\, Lindenplatz 8\, Koldingen\, 30982
END:VEVENT
BEGIN:VEVENT
DTSTART;TZID=Europe/Berlin:20261106T173000
DTEND;TZID=Europe/Berlin:20261106T190000
DTSTAMP:20260420T110152
CREATED:20260116T183527Z
LAST-MODIFIED:20260116T183527Z
UID:2941-1793986200-1793991600@dorfverein-koldingen.de
SUMMARY:Laternenumzug
DESCRIPTION:Großer traditioneller Laternenumzug mit Sankt Martin zu Pferde\, Fackelträgern und Musik.
URL:https://dorfverein-koldingen.de/event/laternenumzug-2-2/
LOCATION:Kapelle\, Amtberg 11\, Pattensen\, 30982
ATTACH;FMTTYPE=image/jpeg:https://dorfverein-koldingen.de/wp-content/uploads/D1874523-355D-40BF-BDB6-157BEE0F6008-2.jpg
END:VEVENT
BEGIN:VEVENT
DTSTART;TZID=Europe/Berlin:20261106T180000
DTEND;TZID=Europe/Berlin:20261106T200000
DTSTAMP:20260420T110152
CREATED:20260116T183629Z
LAST-MODIFIED:20260116T183629Z
UID:2944-1793988000-1793995200@dorfverein-koldingen.de
SUMMARY:Herbstfeuer
DESCRIPTION:Alljährliches Herbstfeuer der Koldinger Feuerwehr mit Grill\, Getränken und Stockbrot.
URL:https://dorfverein-koldingen.de/event/herbstfeuer-2-2/
LOCATION:Schlauchturm\, Amtberg 9\, Koldingen\, 30982
END:VEVENT
END:VCALENDAR